BEGIN:VCALENDAR
PRODID:-//github.com/rianjs/ical.net//NONSGML ical.net 4.0//EN
VERSION:2.0
BEGIN:VEVENT
DESCRIPTION:Töm garage\, vindar\, garderober\, skåp och lådor och sälj dem
  på Loppis eller kom och gör fynd!
DTEND:20260503T133000
DTSTAMP:20260424T232831Z
DTSTART:20260503T093000
LOCATION:P-hus plan 3
SEQUENCE:0
SUMMARY:Bakluckeloppis
UID:c37430c8-8688-49c5-9501-a8705f95d835
END:VEVENT
END:VCALENDAR
