BEGIN:VCALENDAR
PRODID:-//github.com/rianjs/ical.net//NONSGML ical.net 4.0//EN
VERSION:2.0
BEGIN:VEVENT
DESCRIPTION:Norrköpings Fritidsgårdar bjuder in till en dag i danses tecke
 n.
DTEND:20260425T150000
DTSTAMP:20260424T231208Z
DTSTART:20260425T130000
LOCATION:Plan 2
SEQUENCE:0
SUMMARY:Fira dansens vecka!
UID:84c7580b-2d85-4059-98c8-02c2746d1b34
END:VEVENT
END:VCALENDAR
