BEGIN:VCALENDAR
PRODID:-//github.com/rianjs/ical.net//NONSGML ical.net 4.0//EN
VERSION:2.0
BEGIN:VEVENT
DESCRIPTION:Lördag den 25 April kl 10.00
DTEND:20260425T180000
DTSTAMP:20260424T232550Z
DTSTART:20260425T100000
LOCATION:Stadsmissionen
SEQUENCE:0
SUMMARY:Försäljning av allt i skyltfönstret!
UID:faee67dc-1b27-4bda-a236-3de1023f01b3
END:VEVENT
END:VCALENDAR
