BEGIN:VCALENDAR
PRODID:-//github.com/rianjs/ical.net//NONSGML ical.net 4.0//EN
VERSION:2.0
BEGIN:VEVENT
DESCRIPTION:Större\, ljusare och bättre!
DTEND:20260502T235959
DTSTAMP:20260424T231816Z
DTSTART:20260502T085900
SEQUENCE:0
SUMMARY:Nyöppning för Stadsmissionen!
UID:b1e8ab12-122d-4a38-8fb6-65a1d7bbbfa9
END:VEVENT
END:VCALENDAR
