BEGIN:VCALENDAR
PRODID:-//github.com/rianjs/ical.net//NONSGML ical.net 4.0//EN
VERSION:2.0
BEGIN:VEVENT
DESCRIPTION:Öppningserbjudande 20% rabatt på allt!
DTEND:20260426T235959
DTSTAMP:20260424T230839Z
DTSTART;VALUE=DATE:20260424
LOCATION:Plan 1
SEQUENCE:0
SUMMARY:Premiär för Mias Hus
UID:38e79e11-a6b9-4288-aab8-cd3214febc0b
END:VEVENT
END:VCALENDAR
