BEGIN:VCALENDAR
PRODID:-//github.com/rianjs/ical.net//NONSGML ical.net 4.0//EN
VERSION:2.0
BEGIN:VEVENT
DESCRIPTION:Varje onsdag! Fina erbjudanden för dig som fyllt 65år
DTEND:20261231T235959
DTSTAMP:20260420T132720Z
DTSTART;VALUE=DATE:20260415
SEQUENCE:0
SUMMARY:Senioronsdag
UID:e6813b78-7470-41d5-a886-9120ff461a4d
END:VEVENT
END:VCALENDAR
